BEGIN:VCALENDAR
VERSION:2.0
PRODID:-//Squarespace Inc/Squarespace 6//v6//EN
BEGIN:VEVENT
UID:519f1a3be4b018f5767b74d8@squarespace.com
DTSTAMP:20130401T183959Z
DTSTART:20130415T190000Z
DTEND:20130415T200000Z
SUMMARY:Event One
END:VEVENT
END:VCALENDAR
